BEGIN:VCALENDAR
VERSION:2.0
PRODID:-//mbra.com.au - ECPv6.15.17//NONSGML v1.0//EN
CALSCALE:GREGORIAN
METHOD:PUBLISH
X-WR-CALNAME:mbra.com.au
X-ORIGINAL-URL:http://mbra.com.au
X-WR-CALDESC:Events for mbra.com.au
REFRESH-INTERVAL;VALUE=DURATION:PT1H
X-Robots-Tag:noindex
X-PUBLISHED-TTL:PT1H
BEGIN:VTIMEZONE
TZID:Australia/Melbourne
BEGIN:STANDARD
TZOFFSETFROM:+1100
TZOFFSETTO:+1000
TZNAME:AEST
DTSTART:20180331T160000
END:STANDARD
BEGIN:DAYLIGHT
TZOFFSETFROM:+1000
TZOFFSETTO:+1100
TZNAME:AEDT
DTSTART:20181006T160000
END:DAYLIGHT
BEGIN:STANDARD
TZOFFSETFROM:+1100
TZOFFSETTO:+1000
TZNAME:AEST
DTSTART:20190406T160000
END:STANDARD
BEGIN:DAYLIGHT
TZOFFSETFROM:+1000
TZOFFSETTO:+1100
TZNAME:AEDT
DTSTART:20191005T160000
END:DAYLIGHT
BEGIN:STANDARD
TZOFFSETFROM:+1100
TZOFFSETTO:+1000
TZNAME:AEST
DTSTART:20200404T160000
END:STANDARD
BEGIN:DAYLIGHT
TZOFFSETFROM:+1000
TZOFFSETTO:+1100
TZNAME:AEDT
DTSTART:20201003T160000
END:DAYLIGHT
BEGIN:STANDARD
TZOFFSETFROM:+1100
TZOFFSETTO:+1000
TZNAME:AEST
DTSTART:20210403T160000
END:STANDARD
BEGIN:DAYLIGHT
TZOFFSETFROM:+1000
TZOFFSETTO:+1100
TZNAME:AEDT
DTSTART:20211002T160000
END:DAYLIGHT
BEGIN:STANDARD
TZOFFSETFROM:+1100
TZOFFSETTO:+1000
TZNAME:AEST
DTSTART:20220402T160000
END:STANDARD
BEGIN:DAYLIGHT
TZOFFSETFROM:+1000
TZOFFSETTO:+1100
TZNAME:AEDT
DTSTART:20221001T160000
END:DAYLIGHT
BEGIN:STANDARD
TZOFFSETFROM:+1100
TZOFFSETTO:+1000
TZNAME:AEST
DTSTART:20230401T160000
END:STANDARD
BEGIN:DAYLIGHT
TZOFFSETFROM:+1000
TZOFFSETTO:+1100
TZNAME:AEDT
DTSTART:20230930T160000
END:DAYLIGHT
BEGIN:STANDARD
TZOFFSETFROM:+1100
TZOFFSETTO:+1000
TZNAME:AEST
DTSTART:20240406T160000
END:STANDARD
BEGIN:DAYLIGHT
TZOFFSETFROM:+1000
TZOFFSETTO:+1100
TZNAME:AEDT
DTSTART:20241005T160000
END:DAYLIGHT
BEGIN:STANDARD
TZOFFSETFROM:+1100
TZOFFSETTO:+1000
TZNAME:AEST
DTSTART:20250405T160000
END:STANDARD
BEGIN:DAYLIGHT
TZOFFSETFROM:+1000
TZOFFSETTO:+1100
TZNAME:AEDT
DTSTART:20251004T160000
END:DAYLIGHT
BEGIN:STANDARD
TZOFFSETFROM:+1100
TZOFFSETTO:+1000
TZNAME:AEST
DTSTART:20260404T160000
END:STANDARD
BEGIN:DAYLIGHT
TZOFFSETFROM:+1000
TZOFFSETTO:+1100
TZNAME:AEDT
DTSTART:20261003T160000
END:DAYLIGHT
END:VTIMEZONE
BEGIN:VEVENT
DTSTART;TZID=Australia/Melbourne:20250105T100000
DTEND;TZID=Australia/Melbourne:20250105T130000
DTSTAMP:20260425T021640
CREATED:20241226T045359Z
LAST-MODIFIED:20241226T202437Z
UID:4792-1736071200-1736082000@mbra.com.au
SUMMARY:Sand Modelling Competition – Sunday 5th January 2025 10:00am
DESCRIPTION:Put your thinking cap on and get your crew together to consider what sand creation you will create on the day! \nAll are welcome!
URL:http://mbra.com.au/event/sand-modelling-competition-sunday-5th-january-2025-1000am/
END:VEVENT
BEGIN:VEVENT
DTSTART;TZID=Australia/Melbourne:20241229T100000
DTEND;TZID=Australia/Melbourne:20241229T120000
DTSTAMP:20260425T021640
CREATED:20241226T045306Z
LAST-MODIFIED:20241226T202506Z
UID:4790-1735466400-1735473600@mbra.com.au
SUMMARY:MBRA AGM Sunday 29th Dec 10:00am
DESCRIPTION:The next AGM will be held at the Merricks Yacht Club on Sun December 29th 2024 at 10:00am. Current members are welcome to attend. \nMinutes of the last AGM and Notice of Meeting\, Proxy Form and Nomination Form for next AGM are included on website for your ease. \nProxy Form \nNotice of Meeting \nNomination_form.pdf \nCommittee Report \nAccounts \nAGM Minutes 7-1-24
URL:http://mbra.com.au/event/mbra-agm-sunday-29th-dec-1000am/
END:VEVENT
BEGIN:VEVENT
DTSTART;TZID=Australia/Melbourne:20241227T183000
DTEND;TZID=Australia/Melbourne:20241227T213000
DTSTAMP:20260425T021640
CREATED:20241226T045530Z
LAST-MODIFIED:20241226T202357Z
UID:4794-1735324200-1735335000@mbra.com.au
SUMMARY:MYC Kids Movie Night 6:30pm at the Yacht Club
DESCRIPTION:Hope to see you there!
URL:http://mbra.com.au/event/myc-kids-movie-night-630pm-at-the-yacht-club/
END:VEVENT
BEGIN:VEVENT
DTSTART;TZID=Australia/Melbourne:20241227T093000
DTEND;TZID=Australia/Melbourne:20241227T120000
DTSTAMP:20260425T021640
CREATED:20241226T045132Z
LAST-MODIFIED:20241226T202534Z
UID:4788-1735291800-1735300800@mbra.com.au
SUMMARY:Davies Cup Tennis Competition - 9:45am Friday 27th December
DESCRIPTION:Davies Cup 2024/25 \nA reminder that the Davies Cup tennis tournament will be held this Friday 27 December\, commencing at 9.45am.  The hot weather should be over\, and hopefully no\, or minimal\, rain.  Come have a hit – all welcome!  Entry is $20 ($10 juniors). \nPlease advise entries to president@mbra.com.au or text Peter on 0416 067 377
URL:http://mbra.com.au/event/davies-cup-tennis-competition-945am-friday-27th-december/
END:VEVENT
BEGIN:VEVENT
DTSTART;TZID=Australia/Melbourne:20240107T100000
DTEND;TZID=Australia/Melbourne:20240107T120000
DTSTAMP:20260425T021640
CREATED:20231128T045745Z
LAST-MODIFIED:20231128T045745Z
UID:4516-1704621600-1704628800@mbra.com.au
SUMMARY:Merricks Beach Residents Association
DESCRIPTION:
URL:http://mbra.com.au/event/merricks-beach-residents-association/
LOCATION:MYC
END:VEVENT
BEGIN:VEVENT
DTSTART;TZID=Australia/Melbourne:20231230T120000
DTEND;TZID=Australia/Melbourne:20231230T140000
DTSTAMP:20260425T021640
CREATED:20231212T031736Z
LAST-MODIFIED:20231212T031736Z
UID:4559-1703937600-1703944800@mbra.com.au
SUMMARY:Sausage Sizzle
DESCRIPTION:12:00pm. Keep an eye out for more details.
URL:http://mbra.com.au/event/sausage-sizzle/
END:VEVENT
BEGIN:VEVENT
DTSTART;TZID=Australia/Melbourne:20231230T100000
DTEND;TZID=Australia/Melbourne:20231230T120000
DTSTAMP:20260425T021640
CREATED:20231128T045625Z
LAST-MODIFIED:20231212T034837Z
UID:4514-1703930400-1703937600@mbra.com.au
SUMMARY:Sand Modelling Competition
DESCRIPTION:10:00am Start Time. Keep an eye out for other details including donations! \n  \nReserve date is 2nd January 2024 if weather is not suitable.
URL:http://mbra.com.au/event/sand-modelling-competition/
LOCATION:Merricks Beach Foreshore\, Corner Merricks Beach Rd and Surf St\, Merricks Beach\, Victoria\, 3926\, Australia
END:VEVENT
BEGIN:VEVENT
DTSTART;TZID=Australia/Melbourne:20231229T100000
DTEND;TZID=Australia/Melbourne:20231229T140000
DTSTAMP:20260425T021640
CREATED:20231128T045351Z
LAST-MODIFIED:20231128T045351Z
UID:4512-1703844000-1703858400@mbra.com.au
SUMMARY:MBRA Davies Cup at the Tennis Court
DESCRIPTION:Keep a look out for email on registrations for this years Davies Cup Tennis Competition!
URL:http://mbra.com.au/event/mbra-davies-cup-at-the-tennis-court/
LOCATION:Merricks Beach Tennis Courts\, 12 Surf Street\, Merricks Beach\, Victoria\, 3926\, Australia
END:VEVENT
BEGIN:VEVENT
DTSTART;TZID=Australia/Melbourne:20231205T100000
DTEND;TZID=Australia/Melbourne:20231212T110000
DTSTAMP:20260425T021640
CREATED:20231128T050025Z
LAST-MODIFIED:20231128T050025Z
UID:4518-1701770400-1702378800@mbra.com.au
SUMMARY:Weekly Craft Group - Tues 10:00am
DESCRIPTION:
URL:http://mbra.com.au/event/weekly-craft-group-tues-1000am/
LOCATION:MYC
END:VEVENT
BEGIN:VEVENT
DTSTART;TZID=Australia/Melbourne:20230108T100000
DTEND;TZID=Australia/Melbourne:20230108T120000
DTSTAMP:20260425T021640
CREATED:20221017T111829Z
LAST-MODIFIED:20221023T021735Z
UID:3997-1673172000-1673179200@mbra.com.au
SUMMARY:MBRA AGM 2023
DESCRIPTION:The Annual General Meeting of the MBRA will be held at the Merricks Yacht Club on January 8th\, 2023 at 10:00AM.
URL:http://mbra.com.au/event/2023-agm/
LOCATION:MYC
END:VEVENT
BEGIN:VEVENT
DTSTART;TZID=Australia/Melbourne:20221230T100000
DTEND;TZID=Australia/Melbourne:20221230T140000
DTSTAMP:20260425T021640
CREATED:20221023T025859Z
LAST-MODIFIED:20221023T031110Z
UID:4242-1672394400-1672408800@mbra.com.au
SUMMARY:Davies Cup Tennis Tournament
DESCRIPTION:The annual Merricks Beach tennis ‘tournament’\, the competition for the Davies Cup\, will take place on Friday 30 December\, commencing at 10am. \nAll residents and their visitors are welcome (12+ years). The format is doubles\, with players allocated a partner. \nEntry is $25 for adults and $15 for others.\nPlease register your interest in playing by email to president@mbra.com.au or text to 0417118869 (Ian Basser) or 0416067377 (Peter Cash).
URL:http://mbra.com.au/event/davies-cup-tennis-tournament/
LOCATION:Merricks Beach Tennis Courts\, 12 Surf Street\, Merricks Beach\, Victoria\, 3926\, Australia
END:VEVENT
BEGIN:VEVENT
DTSTART;TZID=Australia/Melbourne:20221227T100000
DTEND;TZID=Australia/Melbourne:20221227T130000
DTSTAMP:20260425T021640
CREATED:20221023T025531Z
LAST-MODIFIED:20221023T063140Z
UID:4240-1672135200-1672146000@mbra.com.au
SUMMARY:Sand Modelling and Sausage Sizzle
DESCRIPTION:The annual Sand Modelling Competition and Sausage Sizzle is coming back in full swing this year.  On Tuesday\, 27th December be ready for a morning of creativity and fun with locals of all ages. Bring your shovels\, buckets\, brushes and sculpting implements and style your unique design on the foreshore in front of the Merricks Yacht Club. Registration is at 10am. Prizes will be awarded to the winners of each category. Bring along your friends and family to this long-standing community event. All welcome! \nIf the weather proves challenging on that day (if the temperature is over 38 degrees or we are rained out)\, we will move the event to our reserve date of Thursday 29th December at 10am. \nSue Rutley – Event Co-ordinator
URL:http://mbra.com.au/event/sandmodelling-and-sausage-sizzle/
END:VEVENT
BEGIN:VEVENT
DTSTART;VALUE=DATE:20221204
DTEND;VALUE=DATE:20221205
DTSTAMP:20260425T021640
CREATED:20221023T030726Z
LAST-MODIFIED:20221023T031131Z
UID:4246-1670112000-1670198399@mbra.com.au
SUMMARY:Tennis Courts Working Bee
DESCRIPTION:Placeholder – details to be advised.
URL:http://mbra.com.au/event/tennis-court-working-bee/
LOCATION:Merricks Beach Tennis Courts\, 12 Surf Street\, Merricks Beach\, Victoria\, 3926\, Australia
END:VEVENT
BEGIN:VEVENT
DTSTART;TZID=Australia/Melbourne:20220611T100000
DTEND;TZID=Australia/Melbourne:20220611T100000
DTSTAMP:20260425T021640
CREATED:20220425T031306Z
LAST-MODIFIED:20220426T200527Z
UID:3965-1654941600-1654941600@mbra.com.au
SUMMARY:Queen's Birthday Plant Giveaway
DESCRIPTION:The Queen’s Birthday Plant Giveaway will run on Saturday\, June 11th and Sunday\, June 12th from 10am.
URL:http://mbra.com.au/event/queens-birthday-plant-giveaway/
END:VEVENT
BEGIN:VEVENT
DTSTART;TZID=Australia/Melbourne:20220102T100000
DTEND;TZID=Australia/Melbourne:20220102T123000
DTSTAMP:20260425T021640
CREATED:20220118T233403Z
LAST-MODIFIED:20220118T233403Z
UID:3852-1641117600-1641126600@mbra.com.au
SUMMARY:AGM
DESCRIPTION:
URL:http://mbra.com.au/event/agm/
LOCATION:MYC
END:VEVENT
BEGIN:VEVENT
DTSTART;TZID=Australia/Melbourne:20190831T103000
DTEND;TZID=Australia/Melbourne:20190831T123000
DTSTAMP:20260425T021640
CREATED:20190626T022655Z
LAST-MODIFIED:20190626T022934Z
UID:3111-1567247400-1567254600@mbra.com.au
SUMMARY:Merricks Beach - Indigenous Guided Walk with Lionel Lauch from Living Culture
DESCRIPTION:31 August 2019\n\n\n\nThe Merrick’s Beach Residents’ Association (http://35.198.241.101/~mbra5205/)\, together with Living Culture (https://www.livingculture.com.au/)\, is delighted to invite you to a guided cultural tour of Merricks Beach. \n\n\n\nGuide Lionel Lauch is a Gundijtmara Kirrae Wurrung-Bundjalung man who lives on the Mornington Peninsula and has extensive experience of taking walks and sharing Aboriginal knowledge of the plants and food in the foreshores. Lionel also offers a yidaki (didgeridoo) meditation for participants. \n\n\n\nDate: Saturday 31 August 2019\, at 10.30 am – 12:30pm. Meet at the corner of Merricks Beach Road and Surf Street. \n\n\n\nCost: $20 per person. $10 Concession. \n\n\n\nPayment: Pay direct to MBRA’s bank account – BSB 083668\, Acct. 048360179. (Please enter your first and last name in the “Description” field when making your direct deposit\, and please obtain an email receipt for your payment.) \n\n\n\nBookings essential: To confirm your booking\, please send a copy of the transaction receipt to committee member Mary Daley (marydaley@tpg.com.au) \n\n\n\n********Please note\, places are limited******
URL:http://mbra.com.au/event/merricks-beach-indigenous-guided-walk-with-lionel-lauch-from-living-culture/
ATTACH;FMTTYPE=image/jpeg:http://mbra.com.au/wp-content/uploads/2019/06/Untitled-1.jpg
END:VEVENT
END:VCALENDAR